BEGIN:VCALENDAR
VERSION:2.0
PRODID:Oceanside, CA Calendar Creator
METHOD:PUBLISH
BEGIN:VEVENT
DTSTAMP:20240221T142002
DTSTART:20240405T000000
DTEND:20240406T235900
SUMMARY:IRONMAN 70.3 Oceanside
DESCRIPTION:<p>The City of Oceanside collaborates with IRONMAN to put on a half-IRONMAN triathlon every year. The race includes a 1.2-mile swim in the harbor, dips into Camp Pendleton for a 56-mile bike, and finishes with a 12.1-mile run along Pacific Street and the Strand. The  finish line celebration is at the Jr. Seau Pier Amphitheater. The race draws in competitors from around the world in addition to local athletes. The race also features an IRONKIDS portion the day before (April 5, 2024) from 3pm-6pm, which is a short run along the Strand for children of all ages.</p><p>Please expect multiple street and parking Lot closures. The Harbor beach and launch ramp will also be closed throughout the event.&nbsp; </p><p><a href="https://www.ci.oceanside.ca.us/Home/Components/News/News/150/" target="_blank">More information on various road and Harbor closures here.</a></p><p><span style="font-size: 1.25rem;"> </span><a href="https://www.ironman.com/im703-oceanside" target="_blank" style="font-size: 1.25rem;">Oceanside Ironman Webpage</a><span style="font-size: 1.25rem;">.</span></p>
X-ALT-DESC;FMTTYPE=text/html:<p>The City of Oceanside collaborates with IRONMAN to put on a half-IRONMAN triathlon every year. The race includes a 1.2-mile swim in the harbor, dips into Camp Pendleton for a 56-mile bike, and finishes with a 12.1-mile run along Pacific Street and the Strand. The  finish line celebration is at the Jr. Seau Pier Amphitheater. The race draws in competitors from around the world in addition to local athletes. The race also features an IRONKIDS portion the day before (April 5, 2024) from 3pm-6pm, which is a short run along the Strand for children of all ages.</p><p>Please expect multiple street and parking Lot closures. The Harbor beach and launch ramp will also be closed throughout the event.&nbsp; </p><p><a href="https://www.ci.oceanside.ca.us/Home/Components/News/News/150/" target="_blank">More information on various road and Harbor closures here.</a></p><p><span style="font-size: 1.25rem;"> </span><a href="https://www.ironman.com/im703-oceanside" target="_blank" style="font-size: 1.25rem;">Oceanside Ironman Webpage</a><span style="font-size: 1.25rem;">.</span></p>
LOCATION:Pier / Pier Amphitheater\, 301 The Strand N Oceanside\, California 92054
CLASS:PUBLIC
END:VEVENT
END:VCALENDAR
