BEGIN:VCALENDAR
VERSION:2.0
PRODID:Oceanside, CA Calendar Creator
METHOD:PUBLISH
BEGIN:VEVENT
DTSTAMP:20240306T073521
DTSTART:20240413T120000
DTEND:20240413T161500
SUMMARY:Heritage Park Day
DESCRIPTION:<p>&nbsp;REGISTRATION REQUIRED - Click <a href="http://apm.activecommunities.com/oceansiderec/Activity_Search/13346" target="_blank">here</a> to Register!&nbsp;</p><p>Have a day of FREE old-fashioned fun at Heritage Park with Oceanside Parks and Recreation! We are hosting a carnival day with free games, ice cream sundaes, crafts, and more family-fun activities! Kids 12 and under can play all the games and win a prize!<br><br>Due to limited capacity at Heritage Park, ALL members attending this event must be registered. Each attendee will receive a ticket for a free ice cream sundae and/or popcorn bag!<br><br>Please make sure to register your entire party for the correct time slot:<br>12:00pm - 2:00pm<br>2:15pm - 4:15pm<br><br>No dogs allowed.</p>
X-ALT-DESC;FMTTYPE=text/html:<p>&nbsp;REGISTRATION REQUIRED - Click <a href="http://apm.activecommunities.com/oceansiderec/Activity_Search/13346" target="_blank">here</a> to Register!&nbsp;</p><p>Have a day of FREE old-fashioned fun at Heritage Park with Oceanside Parks and Recreation! We are hosting a carnival day with free games, ice cream sundaes, crafts, and more family-fun activities! Kids 12 and under can play all the games and win a prize!<br><br>Due to limited capacity at Heritage Park, ALL members attending this event must be registered. Each attendee will receive a ticket for a free ice cream sundae and/or popcorn bag!<br><br>Please make sure to register your entire party for the correct time slot:<br>12:00pm - 2:00pm<br>2:15pm - 4:15pm<br><br>No dogs allowed.</p>
LOCATION:Heritage Park & Museum\, 220 Peyri Road Oceanside\, California 92057
CLASS:PUBLIC
END:VEVENT
END:VCALENDAR
