BEGIN:VCALENDAR
VERSION:2.0
PRODID:Oceanside, CA Calendar Creator
METHOD:PUBLISH
BEGIN:VEVENT
DTSTAMP:20240424T092948
DTSTART:20240615T170000
DTEND:20240615T200000
SUMMARY:Concert in the Park - Jim Wood Park
DESCRIPTION:<p>Join us for a FREE Concert in the Park at Jim Wood Park!</p><p>Remember to bring your beach chairs and blankets! Food trucks and family-friendly activities will be available at the event.</p><p>Please note: canopies and large umbrellas are not allowed. Jim Wood Park at Rancho del Oro (formerly just Rancho del Oro Park) is located at College and Empresa, Oceanside, CA 92056.</p><p>Parking is limited! We encourage carpooling, biking, taking transit, or walking. Bikers, walkers, and transit takers can stop by our booth for a free gift.</p>
X-ALT-DESC;FMTTYPE=text/html:<p>Join us for a FREE Concert in the Park at Jim Wood Park!</p><p>Remember to bring your beach chairs and blankets! Food trucks and family-friendly activities will be available at the event.</p><p>Please note: canopies and large umbrellas are not allowed. Jim Wood Park at Rancho del Oro (formerly just Rancho del Oro Park) is located at College and Empresa, Oceanside, CA 92056.</p><p>Parking is limited! We encourage carpooling, biking, taking transit, or walking. Bikers, walkers, and transit takers can stop by our booth for a free gift.</p>
LOCATION:Jim Wood Park at Rancho Del Oro\, 4701 Mesa Dr Oceanside\, California 92056
CLASS:PUBLIC
END:VEVENT
END:VCALENDAR
