BEGIN:VCALENDAR
VERSION:2.0
PRODID:Oceanside, CA Calendar Creator
METHOD:PUBLISH
BEGIN:VEVENT
DTSTAMP:20240424T144939
DTSTART:20240509T160000
DTEND:20240509T173000
SUMMARY:Coffee in the Park
DESCRIPTION:<p>Have an idea about a park or program in Oceanside? 💭💡 Share your ideas and a cup of coffee with our director, Manuel Gonzalez at our upcoming Coffee in the Park events!&nbsp;</p><p>The&nbsp; event is May 9th, from 4 to 5:30pm at Capistrano Park.</p><p>Can't make it to either event? Feel free to call us at 760-435-5041 to schedule an appointment. Your voice counts in the creation of our future parks, programs, and events!</p>
X-ALT-DESC;FMTTYPE=text/html:<p>Have an idea about a park or program in Oceanside? 💭💡 Share your ideas and a cup of coffee with our director, Manuel Gonzalez at our upcoming Coffee in the Park events!&nbsp;</p><p>The&nbsp; event is May 9th, from 4 to 5:30pm at Capistrano Park.</p><p>Can't make it to either event? Feel free to call us at 760-435-5041 to schedule an appointment. Your voice counts in the creation of our future parks, programs, and events!</p>
LOCATION:Capistrano Park\, 770 Capistrano Drive Oceanside\, California 92058
CLASS:PUBLIC
END:VEVENT
END:VCALENDAR
