BEGIN:VCALENDAR
VERSION:2.0
PRODID:Oceanside, CA Calendar Creator
METHOD:PUBLISH
BEGIN:VEVENT
DTSTAMP:20240702T112116
DTSTART:20240712T193000
DTEND:20240712T210000
SUMMARY:Parks and Recreation Month - Free Swim Night
DESCRIPTION:Join us for a free swim night at Brooks Street Swim Center! Bring your whole family and cool off at the pool under the stars. This event will be held on Friday, July 12 from 7:30-9PM.
X-ALT-DESC;FMTTYPE=text/html:Join us for a free swim night at Brooks Street Swim Center! Bring your whole family and cool off at the pool under the stars. This event will be held on Friday, July 12 from 7:30-9PM.
LOCATION:Brooks Street Swim Center\, 130 Brooks Street Oceanside\, California 92054
CLASS:PUBLIC
END:VEVENT
END:VCALENDAR
