BEGIN:VCALENDAR
VERSION:2.0
PRODID:Oceanside, CA Calendar Creator
METHOD:PUBLISH
BEGIN:VEVENT
DTSTAMP:20240702T105746
DTSTART:20240711T080000
DTEND:20240711T110000
SUMMARY:Parks and Recreation Month - Free Kids Pickleball Clinic
DESCRIPTION:<p>Have a child that wants to learn how to play pickleball? Join us for a free pickleball clinic at Melba Bishop Park on July 11th!</p><p>&nbsp;Participants will learn the basics of pickleball in a fun environment and enjoy organized play by age and ability. Children will be taught by certified pickleball coaches from Melba Bishop Pickleball Boosters Association.</p><p><span style="text-decoration: underline;">Age Groups</span></p><p>Ages 10-12: 8-9:30AM</p><p>Ages 13-15: 9:30-11AM</p><p>RSVP by Sunday, July 7th by emailing MelbaBishopPBA@gmail.com. Include parent name, child name and age, and contact information.</p><p>*Paddles available upon request*</p>
X-ALT-DESC;FMTTYPE=text/html:<p>Have a child that wants to learn how to play pickleball? Join us for a free pickleball clinic at Melba Bishop Park on July 11th!</p><p>&nbsp;Participants will learn the basics of pickleball in a fun environment and enjoy organized play by age and ability. Children will be taught by certified pickleball coaches from Melba Bishop Pickleball Boosters Association.</p><p><span style="text-decoration: underline;">Age Groups</span></p><p>Ages 10-12: 8-9:30AM</p><p>Ages 13-15: 9:30-11AM</p><p>RSVP by Sunday, July 7th by emailing MelbaBishopPBA@gmail.com. Include parent name, child name and age, and contact information.</p><p>*Paddles available upon request*</p>
LOCATION:Melba Bishop Park & Skatepark\, 5306 N River Rd Oceanside\, California 92057
CLASS:PUBLIC
END:VEVENT
END:VCALENDAR
