BEGIN:VCALENDAR
VERSION:2.0
PRODID:Oceanside, CA Calendar Creator
METHOD:PUBLISH
BEGIN:VEVENT
DTSTAMP:20240717T085445
DTSTART:20240725T140000
DTEND:20240725T170000
SUMMARY:Parks and Recreation Month - Free Kids Pickleball Clinic
DESCRIPTION:<p>Have a child that wants to learn how to play pickleball? Join us for a free pickleball clinic at Melba Bishop Park on July 25th!</p><p>&nbsp;Participants will learn the basics of pickleball in a fun environment and enjoy organized play by age and ability. Children will be taught by certified pickleball coaches from Melba Bishop Pickleball Boosters Association.</p><p><span style="text-decoration: underline;">Age Groups</span></p><p>Ages 10-12: 2:00 - 3:00pm</p><p>Ages 13-15: 3:30 - 5:00pm</p><p>RSVP by Tuesday, July 23rd by emailing <a href="mailto:">MelbaBishopPBA@gmail.com</a>. Include parent name, child name and age, and contact information.</p><p>*Paddles available upon request*</p>
X-ALT-DESC;FMTTYPE=text/html:<p>Have a child that wants to learn how to play pickleball? Join us for a free pickleball clinic at Melba Bishop Park on July 25th!</p><p>&nbsp;Participants will learn the basics of pickleball in a fun environment and enjoy organized play by age and ability. Children will be taught by certified pickleball coaches from Melba Bishop Pickleball Boosters Association.</p><p><span style="text-decoration: underline;">Age Groups</span></p><p>Ages 10-12: 2:00 - 3:00pm</p><p>Ages 13-15: 3:30 - 5:00pm</p><p>RSVP by Tuesday, July 23rd by emailing <a href="mailto:">MelbaBishopPBA@gmail.com</a>. Include parent name, child name and age, and contact information.</p><p>*Paddles available upon request*</p>
LOCATION:Melba Bishop Park & Skatepark\, 5306 N River Rd Oceanside\, California 92057
CLASS:PUBLIC
END:VEVENT
END:VCALENDAR
