BEGIN:VCALENDAR
VERSION:2.0
PRODID:Oceanside, CA Calendar Creator
METHOD:PUBLISH
BEGIN:VEVENT
DTSTAMP:20241106T163105
DTSTART:20241205T163000
DTEND:20241205T200000
SUMMARY:Tree Lighting Ceremony
DESCRIPTION:<p><em>Bring your holiday cheer and join us for this family-friendly event!</em> </p><p>The annual Tree Lighting Ceremony is on Thursday, December 5, 2024, at Regal Cinema Plaza in downtown Oceanside (401 Mission Avenue).&nbsp; Join the holiday spirit and take a picture with Santa, make holiday crafts, enjoy dance performances and free milk and cookies (while supplies last).&nbsp;&nbsp;</p><p>4:30 p.m.: Local dance groups perform</p><p>5:00 p.m.: Craft booth offered and  activities begin</p><p>5:45-6:00 p.m.: Santa Claus arrives in an antique fire truck and the countdown to the tree lighting begins</p><p>6:00-8:00 p.m.: Bring your camera and take a photo with Santa Claus and enjoy the Sunset Market</p><p><span style="font-size: 1.25rem;">Free parking at Oceanside Transit Center garage, Oceanside Civic Center Garage, and low-cost parking ($3 for two hours or $5 for all day) at 371 N. Cleveland Street.&nbsp; Better yet, walk, ride a bike or take public transit!</span></p><p><span style="font-size: 1.25rem;">&nbsp;</span><a href="https://www.ci.oceanside.ca.us/home/showpublisheddocument/13275/638324460888870000" target="_blank" style="font-size: 1.25rem;">Downtown Parking Options</a></p>
X-ALT-DESC;FMTTYPE=text/html:<p><em>Bring your holiday cheer and join us for this family-friendly event!</em> </p><p>The annual Tree Lighting Ceremony is on Thursday, December 5, 2024, at Regal Cinema Plaza in downtown Oceanside (401 Mission Avenue).&nbsp; Join the holiday spirit and take a picture with Santa, make holiday crafts, enjoy dance performances and free milk and cookies (while supplies last).&nbsp;&nbsp;</p><p>4:30 p.m.: Local dance groups perform</p><p>5:00 p.m.: Craft booth offered and  activities begin</p><p>5:45-6:00 p.m.: Santa Claus arrives in an antique fire truck and the countdown to the tree lighting begins</p><p>6:00-8:00 p.m.: Bring your camera and take a photo with Santa Claus and enjoy the Sunset Market</p><p><span style="font-size: 1.25rem;">Free parking at Oceanside Transit Center garage, Oceanside Civic Center Garage, and low-cost parking ($3 for two hours or $5 for all day) at 371 N. Cleveland Street.&nbsp; Better yet, walk, ride a bike or take public transit!</span></p><p><span style="font-size: 1.25rem;">&nbsp;</span><a href="https://www.ci.oceanside.ca.us/home/showpublisheddocument/13275/638324460888870000" target="_blank" style="font-size: 1.25rem;">Downtown Parking Options</a></p>
LOCATION:
CLASS:PUBLIC
END:VEVENT
END:VCALENDAR
