BEGIN:VCALENDAR
VERSION:2.0
PRODID:Oceanside, CA Calendar Creator
METHOD:PUBLISH
BEGIN:VEVENT
DTSTAMP:20250414T134829
DTSTART:20250419T090000
DTEND:20250419T120000
SUMMARY:Spring Egg Hunt
DESCRIPTION:<p><span style="font-size: 1.25rem;">The Annual Spring Egg Hunt will be on Saturday, April 19, from 9am - 12pm, at Mance Buchanon Park.</span></p><p><span style="text-decoration: underline;"><strong>Event Timeline</strong></span>:</p><p><span style="text-decoration: underline;"><strong>9:00am - 10:00am</strong></span>- The event begins! Egg Hunt for kids 2 and under will also be underway. Crafts, bunny photos, and other festivities.</p><p><span style="text-decoration: underline;"><strong>10:00am (SHARP)</strong></span>- Egg Hunt begins for kids 3-11 (no parents are allowed on the field).</p><p><span style="text-decoration: underline;"><strong>10:15am</strong><strong> - 10:30am</strong></span>-&nbsp;All Egg-bilities Hunt begins. This hunt is designed for children up to the age of 11 who have adaptive needs. Parents will be allowed to assist their child navigate the field (Music will be turned off during this time). All other children may enjoy event festivities such as pictures with the bunny or crafts/coloring.&nbsp;</p><p><span style="text-decoration: underline;"><strong>10:30am - 11:00am</strong></span><strong>- </strong>Magic Show!</p><p><span style="text-decoration: underline;"><strong>11:00am - 12:00pm</strong></span>- Festivities continue! Crafts, bunny photos, and prizes!</p><p>This FREE event is for kids up to 11 years old. Arrive early for candy, prizes, entertainment, and a picture with the bunny. Please bring your own egg basket or bag. Free parking is available at Mance Buchanon Park. We hope to see you there!</p><p>&nbsp;</p>
X-ALT-DESC;FMTTYPE=text/html:<p><span style="font-size: 1.25rem;">The Annual Spring Egg Hunt will be on Saturday, April 19, from 9am - 12pm, at Mance Buchanon Park.</span></p><p><span style="text-decoration: underline;"><strong>Event Timeline</strong></span>:</p><p><span style="text-decoration: underline;"><strong>9:00am - 10:00am</strong></span>- The event begins! Egg Hunt for kids 2 and under will also be underway. Crafts, bunny photos, and other festivities.</p><p><span style="text-decoration: underline;"><strong>10:00am (SHARP)</strong></span>- Egg Hunt begins for kids 3-11 (no parents are allowed on the field).</p><p><span style="text-decoration: underline;"><strong>10:15am</strong><strong> - 10:30am</strong></span>-&nbsp;All Egg-bilities Hunt begins. This hunt is designed for children up to the age of 11 who have adaptive needs. Parents will be allowed to assist their child navigate the field (Music will be turned off during this time). All other children may enjoy event festivities such as pictures with the bunny or crafts/coloring.&nbsp;</p><p><span style="text-decoration: underline;"><strong>10:30am - 11:00am</strong></span><strong>- </strong>Magic Show!</p><p><span style="text-decoration: underline;"><strong>11:00am - 12:00pm</strong></span>- Festivities continue! Crafts, bunny photos, and prizes!</p><p>This FREE event is for kids up to 11 years old. Arrive early for candy, prizes, entertainment, and a picture with the bunny. Please bring your own egg basket or bag. Free parking is available at Mance Buchanon Park. We hope to see you there!</p><p>&nbsp;</p>
LOCATION:Mance Buchanon Park\, 425 College Blvd Oceanside\, California 92057
CLASS:PUBLIC
END:VEVENT
END:VCALENDAR
