BEGIN:VCALENDAR
VERSION:2.0
PRODID:Oceanside, CA Calendar Creator
METHOD:PUBLISH
BEGIN:VEVENT
DTSTAMP:20250324T081854
DTSTART:20250325T160000
DTEND:20250325T190000
SUMMARY:John Landes Skatepark Grand Re-Opening
DESCRIPTION:<p>The City of Oceanside is celebrating the grand opening of the new skate spot at John Landes Community Park. This was a $487,624 project that included $285,520 in grants from the Prop 68 Per Capita Program and the Urban County Per Capita Program, and $125,000 in grants through the Housing and Urban Development CDBG program. The City hosted public outreach meetings starting in January, 2023 and construction began in November of last year. </p>
X-ALT-DESC;FMTTYPE=text/html:<p>The City of Oceanside is celebrating the grand opening of the new skate spot at John Landes Community Park. This was a $487,624 project that included $285,520 in grants from the Prop 68 Per Capita Program and the Urban County Per Capita Program, and $125,000 in grants through the Housing and Urban Development CDBG program. The City hosted public outreach meetings starting in January, 2023 and construction began in November of last year. </p>
LOCATION:John Landes Park\, 2855 Cedar Road Oceanside\, California 92056
CLASS:PUBLIC
END:VEVENT
END:VCALENDAR
