BEGIN:VCALENDAR
VERSION:2.0
PRODID:Oceanside, CA Calendar Creator
METHOD:PUBLISH
BEGIN:VEVENT
DTSTAMP:20250412T154729
DTSTART:20250524T130000
DTEND:20250524T160000
SUMMARY:Mermaid Pirate Pool Party
DESCRIPTION:<p>Join us for an unforgettable aquatic adventure at the Mermaid Pirate Pool Party! Come dressed as a mermaid or pirate, and get ready to dive into the fun! The party will take place at the William A. Wagner Aquatic Center on May 24th from 1:00pm-4:00pm.</p><p>Swim with mermaids, walk the plank with pirates, participate in a treasure hunt, and compete in fun water games and challenges!<br>Tickets are $7 per person and kids ages 3 and under are free. Grab your sunscreen, towels, and pirate hats or mermaid tails, and join us for a splashing good time at the Mermaid Pirate Pool Party!</p><p>Note: Only Coast Guard-Approved Personal Flotation Devices are allowed.</p><p>Kids under 16 must be accompanied by a parent or guardian. Parents/guardians can fill out a waiver for kids 12-16 to use the facility without a parent/guardian present. Parent or guardian must have a valid ticket.</p><p>Swim tests are required to use the diving boards.</p><p>Parking is limited so alternate modes of transportation or drop-off/pick-ups are encouraged.</p><p><a href="https://anc.apm.activecommunities.com/oceansiderec/home?onlineSiteId=0&amp;locale=en-US&amp;from_original_cui=true" target="_blank">Register here.</a></p><p>All sales are final; no refunds.&nbsp;</p>
X-ALT-DESC;FMTTYPE=text/html:<p>Join us for an unforgettable aquatic adventure at the Mermaid Pirate Pool Party! Come dressed as a mermaid or pirate, and get ready to dive into the fun! The party will take place at the William A. Wagner Aquatic Center on May 24th from 1:00pm-4:00pm.</p><p>Swim with mermaids, walk the plank with pirates, participate in a treasure hunt, and compete in fun water games and challenges!<br>Tickets are $7 per person and kids ages 3 and under are free. Grab your sunscreen, towels, and pirate hats or mermaid tails, and join us for a splashing good time at the Mermaid Pirate Pool Party!</p><p>Note: Only Coast Guard-Approved Personal Flotation Devices are allowed.</p><p>Kids under 16 must be accompanied by a parent or guardian. Parents/guardians can fill out a waiver for kids 12-16 to use the facility without a parent/guardian present. Parent or guardian must have a valid ticket.</p><p>Swim tests are required to use the diving boards.</p><p>Parking is limited so alternate modes of transportation or drop-off/pick-ups are encouraged.</p><p><a href="https://anc.apm.activecommunities.com/oceansiderec/home?onlineSiteId=0&amp;locale=en-US&amp;from_original_cui=true" target="_blank">Register here.</a></p><p>All sales are final; no refunds.&nbsp;</p>
LOCATION:William A. Wagner Aquatic Center\, 3425 Hero Drive Oceanside\, California 92056
CLASS:PUBLIC
END:VEVENT
END:VCALENDAR
