BEGIN:VCALENDAR
VERSION:2.0
PRODID:Oceanside, CA Calendar Creator
METHOD:PUBLISH
BEGIN:VEVENT
DTSTAMP:20250424T073433
DTSTART:20250426T090000
DTEND:20250426T120000
SUMMARY:Youth Pickleball Tournament
DESCRIPTION:Boys and Girls ages 8-14 years old will compete in a round robin tournament followed by playoffs. The tournament is at the Melba Bishop Pickleball Courts on Saturday, April 26th from 9am-12pm. For registration, please contact&nbsp;pickleballzevents@gmail.com.
X-ALT-DESC;FMTTYPE=text/html:Boys and Girls ages 8-14 years old will compete in a round robin tournament followed by playoffs. The tournament is at the Melba Bishop Pickleball Courts on Saturday, April 26th from 9am-12pm. For registration, please contact&nbsp;pickleballzevents@gmail.com.
LOCATION:Melba Bishop Park & Skatepark\, 5306 N River Rd Oceanside\, California 92057
CLASS:PUBLIC
END:VEVENT
END:VCALENDAR
