BEGIN:VCALENDAR
VERSION:2.0
PRODID:Oceanside, CA Calendar Creator
METHOD:PUBLISH
BEGIN:VEVENT
DTSTAMP:20250830T080139
DTSTART:20250830T160000
DTEND:20250830T190000
SUMMARY:Concert in the Park
DESCRIPTION:<p data-start="60" data-end="240">🎶 <strong data-start="63" data-end="112">FREE Concert in the Park – Saturday, Aug. 30!</strong> 🎶<br data-start="115" data-end="118">Join us at Jim Wood Park (4701 Mesa Dr, Oceanside) from 4–7 PM for an evening of music, food, and fun!<span data-start="129" data-end="146"></span><span data-start="188" data-end="198"></span></p><p data-start="242" data-end="493">&nbsp;</p><p data-start="242" data-end="493">🎤 <em data-start="245" data-end="258">Chris James</em> kicks things off, followed by headliner <em data-start="299" data-end="319">Grand Sonic Theory</em>, bringing you the best rock &amp; pop hits from then to now.<br data-start="376" data-end="379">🍔 Enjoy delicious bites from <span data-start="409" data-end="437">The Habit Burger &amp; Grill</span>.<br data-start="438" data-end="441">🎯 Family fun with games, a bounce house &amp; crafts!</p><p data-start="495" data-end="693">&nbsp;</p><p data-start="495" data-end="693">Bring your<strong> </strong>lawn chairs<span data-start="506" data-end="521"></span>, blankets, and dancing shoes—see you there! 💃🕺<br data-start="570" data-end="573"><em data-start="573" data-end="632">Please note: canopies and/or umbrellas are not permitted.</em></p>
X-ALT-DESC;FMTTYPE=text/html:<p data-start="60" data-end="240">🎶 <strong data-start="63" data-end="112">FREE Concert in the Park – Saturday, Aug. 30!</strong> 🎶<br data-start="115" data-end="118">Join us at Jim Wood Park (4701 Mesa Dr, Oceanside) from 4–7 PM for an evening of music, food, and fun!<span data-start="129" data-end="146"></span><span data-start="188" data-end="198"></span></p><p data-start="242" data-end="493">&nbsp;</p><p data-start="242" data-end="493">🎤 <em data-start="245" data-end="258">Chris James</em> kicks things off, followed by headliner <em data-start="299" data-end="319">Grand Sonic Theory</em>, bringing you the best rock &amp; pop hits from then to now.<br data-start="376" data-end="379">🍔 Enjoy delicious bites from <span data-start="409" data-end="437">The Habit Burger &amp; Grill</span>.<br data-start="438" data-end="441">🎯 Family fun with games, a bounce house &amp; crafts!</p><p data-start="495" data-end="693">&nbsp;</p><p data-start="495" data-end="693">Bring your<strong> </strong>lawn chairs<span data-start="506" data-end="521"></span>, blankets, and dancing shoes—see you there! 💃🕺<br data-start="570" data-end="573"><em data-start="573" data-end="632">Please note: canopies and/or umbrellas are not permitted.</em></p>
LOCATION:Jim Wood Park at Rancho Del Oro\, 4701 Mesa Dr Oceanside\, California 92056
CLASS:PUBLIC
END:VEVENT
END:VCALENDAR
