BEGIN:VCALENDAR
VERSION:2.0
PRODID:Oceanside, CA Calendar Creator
METHOD:PUBLISH
BEGIN:VEVENT
DTSTAMP:20250717T153207
DTSTART:20250816T100000
DTEND:20250816T160000
SUMMARY:Beachside Blast: Oceanside Adapative Sports Day
DESCRIPTION:<p>Join us for our Beachside Blast Adaptive Sports Day on Saturday, August 16th; Hosted by Oceanside Parks and Recreation and the Triumph Foundation, along with San Diego Power Soccer, Roll to Success, and Spinal Network.<br><br>It'll be a fun-filled day of adaptive sports, community connection, and beachside vibes. We'll be hosting wheelchair rugby, power soccer, and wheelchair basketball clinics.<br><br>This fun, family-friendly event is an inclusive celebration of adaptive sports.<br><br>Everyone is welcome—people with and without physical disabilities are encouraged to participate together. Limited to 3 guests per para-athlete.<br><br>EVERYONE (ALL GUESTS INCLUDING ATHLETES, FRIENDS, &amp; FAMILY MEMBERS) MUST REGISTER <a href="	http://apm.activecommunities.com/oceansiderec/Activity_Search/15917" target="_blank">here</a> and on <a href="Beachsideblast2025.eventbrite.com" target="_blank">Eventbrite</a>.<br><br>We will have sports wheelchairs and sports equipment for people to use, plus coaches and instructors to teach you how to play the games. Just register and show up!<br><br>Don't miss the FUN!</p><p>&nbsp;If you'd like to volunteer, please sign up for a volunteer shift <a href="https://www.signupgenius.com/go/508054BA8AD28A2F85-56860571-beachside#/" target="_blank">here</a>.</p>
X-ALT-DESC;FMTTYPE=text/html:<p>Join us for our Beachside Blast Adaptive Sports Day on Saturday, August 16th; Hosted by Oceanside Parks and Recreation and the Triumph Foundation, along with San Diego Power Soccer, Roll to Success, and Spinal Network.<br><br>It'll be a fun-filled day of adaptive sports, community connection, and beachside vibes. We'll be hosting wheelchair rugby, power soccer, and wheelchair basketball clinics.<br><br>This fun, family-friendly event is an inclusive celebration of adaptive sports.<br><br>Everyone is welcome—people with and without physical disabilities are encouraged to participate together. Limited to 3 guests per para-athlete.<br><br>EVERYONE (ALL GUESTS INCLUDING ATHLETES, FRIENDS, &amp; FAMILY MEMBERS) MUST REGISTER <a href="	http://apm.activecommunities.com/oceansiderec/Activity_Search/15917" target="_blank">here</a> and on <a href="Beachsideblast2025.eventbrite.com" target="_blank">Eventbrite</a>.<br><br>We will have sports wheelchairs and sports equipment for people to use, plus coaches and instructors to teach you how to play the games. Just register and show up!<br><br>Don't miss the FUN!</p><p>&nbsp;If you'd like to volunteer, please sign up for a volunteer shift <a href="https://www.signupgenius.com/go/508054BA8AD28A2F85-56860571-beachside#/" target="_blank">here</a>.</p>
LOCATION:Junior Seau Beach Community Center\, 300 North Strand Oceanside\, California 92054
CLASS:PUBLIC
END:VEVENT
END:VCALENDAR
