BEGIN:VCALENDAR
VERSION:2.0
PRODID:Oceanside, CA Calendar Creator
METHOD:PUBLISH
BEGIN:VEVENT
DTSTAMP:20250807T102113
DTSTART:20250814T130000
DTEND:20250814T170000
SUMMARY:Teen Takeover
DESCRIPTION:<p>Come celebrate the launch of our Teen Program! Meet new friends, connect with the neighbors of our community, and sign up for the Joe Balderrama Recreation Center Teen Program. We will have pizza, drinks, bubble soccer, a video game truck, arts &amp; crafts, and more!</p><p><span style="font-size: 1.25rem;"><span style="text-decoration: underline;">Location</span>: 709 San Diego St</span></p><p><span style="text-decoration: underline;">Date</span>: Thursday, August 14, 2025</p><p><span style="text-decoration: underline;">Time</span>: 1:00pm - 5:00pm</p><p><span style="text-decoration: underline;">Ages</span>: 10-18</p><p><span style="text-decoration: underline;">Cost</span>: FREE</p><p>&nbsp;For any questions or more information, please call 760-435-5530.</p>
X-ALT-DESC;FMTTYPE=text/html:<p>Come celebrate the launch of our Teen Program! Meet new friends, connect with the neighbors of our community, and sign up for the Joe Balderrama Recreation Center Teen Program. We will have pizza, drinks, bubble soccer, a video game truck, arts &amp; crafts, and more!</p><p><span style="font-size: 1.25rem;"><span style="text-decoration: underline;">Location</span>: 709 San Diego St</span></p><p><span style="text-decoration: underline;">Date</span>: Thursday, August 14, 2025</p><p><span style="text-decoration: underline;">Time</span>: 1:00pm - 5:00pm</p><p><span style="text-decoration: underline;">Ages</span>: 10-18</p><p><span style="text-decoration: underline;">Cost</span>: FREE</p><p>&nbsp;For any questions or more information, please call 760-435-5530.</p>
LOCATION:Joe Balderrama Recreation Center\, 709 San Diego Street Oceanside\, California 92058
CLASS:PUBLIC
END:VEVENT
END:VCALENDAR
