BEGIN:VCALENDAR
VERSION:2.0
PRODID:Oceanside, CA Calendar Creator
METHOD:PUBLISH
BEGIN:VEVENT
DTSTAMP:20250910T121527
DTSTART:20251023T180000
DTEND:20251023T200000
SUMMARY:2nd El Corazon Pump Track Outreach Meeting
DESCRIPTION:<p>The City of Oceanside is designing a new 17-acre park at El Corazon--known as Park Site 1--which will feature the City's very first pump track!</p><p>&nbsp;We invite you to help shape the design of this 35,000-square-foot pump track. Two conceptual design options, developed from prior community feedback, will be presented for review. Your input will help refine the final design.&nbsp;</p><p>Following the presentation, an online survey will be available for you to share your thoughts and preferences.&nbsp;</p><p>For more information, contact Kymberly Corbin at kcorbin@oceansideca.org.</p>
X-ALT-DESC;FMTTYPE=text/html:<p>The City of Oceanside is designing a new 17-acre park at El Corazon--known as Park Site 1--which will feature the City's very first pump track!</p><p>&nbsp;We invite you to help shape the design of this 35,000-square-foot pump track. Two conceptual design options, developed from prior community feedback, will be presented for review. Your input will help refine the final design.&nbsp;</p><p>Following the presentation, an online survey will be available for you to share your thoughts and preferences.&nbsp;</p><p>For more information, contact Kymberly Corbin at kcorbin@oceansideca.org.</p>
LOCATION:El Corazon Event Center\, 3306 Senior Center Drive Oceanside\, California 92056
CLASS:PUBLIC
END:VEVENT
END:VCALENDAR
