BEGIN:VCALENDAR
VERSION:2.0
PRODID:Oceanside, CA Calendar Creator
METHOD:PUBLISH
BEGIN:VEVENT
DTSTAMP:20251002T161217
DTSTART:20251003T160000
DTEND:20251003T203000
SUMMARY:What's Your Superpower?
DESCRIPTION:<p>What’s Your Superpower?! 2025 wouldn’t be possible without the incredible support of our sponsors! 🛹🙏🏼⚡️</p><p>T<span style="font-size: 1.25rem;">ogether, we’re fueling a youth sobriety and empowerment movement through skateboarding, community, and creativity. </span></p><p>📅 Friday, October 3 | 4–8:30 PM<br>📍 Jr. Seau Pier Amphitheatre, Oceanside, CA<br>🎟 Free &amp; Open to All Ages</p><p>✨ Event Highlights:<br>$30,000 in giveaways &amp; prizes (shoes, complete skateboards, skate decks, clothing, Skullcandy headphones, Dr. Bronner’s products + more)<br>1,200 FREE meals from 7 Siblings, Jersey Mike’s, Wrench n Rodent, and The Plot.</p><p>Special Guest Speakers &amp; Athletes: Mike Lemaire, Vanessa Torres, Tony Mag, Tony Alva, Don Brown, Marcelle Johnson, Edie Robertson, Jamie Thomas</p><p>Adaptive Skate &amp; WCMX demos featuring para-athletes Eddie, Tony Tone, Tia Pearl, Kanya, Coco, Anthony Music for Peace program w/ Reese Giles (National Anthem), remarks by Mayor Sanchez + live performances from Christine Marie, Tamara Rodriguez, Robot Kitty.</p><p>Longest Rail Contests: Elementary • Middle School • High School</p>
X-ALT-DESC;FMTTYPE=text/html:<p>What’s Your Superpower?! 2025 wouldn’t be possible without the incredible support of our sponsors! 🛹🙏🏼⚡️</p><p>T<span style="font-size: 1.25rem;">ogether, we’re fueling a youth sobriety and empowerment movement through skateboarding, community, and creativity. </span></p><p>📅 Friday, October 3 | 4–8:30 PM<br>📍 Jr. Seau Pier Amphitheatre, Oceanside, CA<br>🎟 Free &amp; Open to All Ages</p><p>✨ Event Highlights:<br>$30,000 in giveaways &amp; prizes (shoes, complete skateboards, skate decks, clothing, Skullcandy headphones, Dr. Bronner’s products + more)<br>1,200 FREE meals from 7 Siblings, Jersey Mike’s, Wrench n Rodent, and The Plot.</p><p>Special Guest Speakers &amp; Athletes: Mike Lemaire, Vanessa Torres, Tony Mag, Tony Alva, Don Brown, Marcelle Johnson, Edie Robertson, Jamie Thomas</p><p>Adaptive Skate &amp; WCMX demos featuring para-athletes Eddie, Tony Tone, Tia Pearl, Kanya, Coco, Anthony Music for Peace program w/ Reese Giles (National Anthem), remarks by Mayor Sanchez + live performances from Christine Marie, Tamara Rodriguez, Robot Kitty.</p><p>Longest Rail Contests: Elementary • Middle School • High School</p>
LOCATION:
CLASS:PUBLIC
END:VEVENT
END:VCALENDAR
