BEGIN:VCALENDAR
VERSION:2.0
PRODID:Oceanside, CA Calendar Creator
METHOD:PUBLISH
BEGIN:VEVENT
DTSTAMP:20260216T163413
DTSTART:20260302T153000
DTEND:20260302T170000
SUMMARY:Coffee in the Park
DESCRIPTION:<p>Come share your thoughts and a cup of coffee with our director, Manuel Gonzalez, at Prince Memorial Skate Park on Monday, March 2nd, from 3:30pm - 5:00pm. Feel free to give us a call at 760-435-5041 or email recadmin@oceansideca.org. Your voice counts in creating our future parks, programs, and events!</p>
X-ALT-DESC;FMTTYPE=text/html:<p>Come share your thoughts and a cup of coffee with our director, Manuel Gonzalez, at Prince Memorial Skate Park on Monday, March 2nd, from 3:30pm - 5:00pm. Feel free to give us a call at 760-435-5041 or email recadmin@oceansideca.org. Your voice counts in creating our future parks, programs, and events!</p>
LOCATION:Prince Memorial Skatepark\, Alex Road and Foussat Road Oceanside\, California 92058
CLASS:PUBLIC
END:VEVENT
END:VCALENDAR
