BEGIN:VCALENDAR
VERSION:2.0
PRODID:Oceanside, CA Calendar Creator
METHOD:PUBLISH
BEGIN:VEVENT
DTSTAMP:20260305T145441
DTSTART:20260512T180000
DTEND:20260512T210000
SUMMARY:Parks & Recreation Commission Meeting
DESCRIPTION:The Parks and Recreation Commission considers and makes recommendations to the City Council on policies pertaining to the acquisition, development, operation and maintenance of City park facilities, beach facilities, community center facilities and golf course facilities, and shall advise in the planning of City recreation and leisure programs and special events.
X-ALT-DESC;FMTTYPE=text/html:The Parks and Recreation Commission considers and makes recommendations to the City Council on policies pertaining to the acquisition, development, operation and maintenance of City park facilities, beach facilities, community center facilities and golf course facilities, and shall advise in the planning of City recreation and leisure programs and special events.
LOCATION:Council Chambers - City Hall\, 300 N COAST HWY OCEANSIDE\, California 92054
CLASS:PUBLIC
END:VEVENT
END:VCALENDAR
