BEGIN:VCALENDAR
VERSION:2.0
PRODID:Oceanside, CA Calendar Creator
METHOD:PUBLISH
BEGIN:VEVENT
DTSTAMP:20260209T143639
DTSTART:20260224T173000
DTEND:20260224T190000
SUMMARY:Community Meeting
DESCRIPTION:The City of Oceanside is hosting a meeting to collect community input on potential improvements to the Melba Bishop Park and Center. There are $500,000 available and Oceanside residents are invited to attend and share their priorities.&nbsp;
X-ALT-DESC;FMTTYPE=text/html:The City of Oceanside is hosting a meeting to collect community input on potential improvements to the Melba Bishop Park and Center. There are $500,000 available and Oceanside residents are invited to attend and share their priorities.&nbsp;
LOCATION:Melba Bishop Recreation Center\, 5306 North River Road Oceanside\, California 92057
CLASS:PUBLIC
END:VEVENT
END:VCALENDAR
