BEGIN:VCALENDAR
VERSION:2.0
PRODID:Oceanside, CA Calendar Creator
METHOD:PUBLISH
BEGIN:VEVENT
DTSTAMP:20260317T121839
DTSTART:20260411T120000
DTEND:20260411T160000
SUMMARY:April Pools Day Event
DESCRIPTION:Join us for April Pool’s Day, a FREE water safety event hosted by City of Oceanside lifeguards. Come sample swim lessons, learn safety tips for backyard pools, and watch real lifeguards demonstrate lifesaving skills. There will be opportunities to learn basic CPR taught by City of Oceanside emergency responders, so you are prepared in any situation. In addition to water safety education, we will also have recreation swim, raffles, and sweet treats! Join us for a day of water safety and drowning prevention lessons!
X-ALT-DESC;FMTTYPE=text/html:Join us for April Pool’s Day, a FREE water safety event hosted by City of Oceanside lifeguards. Come sample swim lessons, learn safety tips for backyard pools, and watch real lifeguards demonstrate lifesaving skills. There will be opportunities to learn basic CPR taught by City of Oceanside emergency responders, so you are prepared in any situation. In addition to water safety education, we will also have recreation swim, raffles, and sweet treats! Join us for a day of water safety and drowning prevention lessons!
LOCATION:Brooks Street Swim Center\, 130 Brooks Street Oceanside\, California 92054
CLASS:PUBLIC
END:VEVENT
END:VCALENDAR
