BEGIN:VCALENDAR
VERSION:2.0
PRODID:Oceanside, CA Calendar Creator
METHOD:PUBLISH
BEGIN:VEVENT
DTSTAMP:20260209T111458
DTSTART:20260523T130000
DTEND:20260523T160000
SUMMARY:Mermaid Pirate Pool Party
DESCRIPTION:<p>Join us for an unforgettable aquatic adventure at the Mermaid Pirate Pool Party! Come dressed as a mermaid or pirate, and get ready to dive into the fun! The party will take place at the William A. Wagner Aquatic Center on May 23rd from 1:00pm-4:00pm.&nbsp;<span style="font-size: 1.25rem;">Swim with mermaids, walk the plank with pirates, participate in a treasure hunt, and compete in fun water games and challenges!</span></p>
X-ALT-DESC;FMTTYPE=text/html:<p>Join us for an unforgettable aquatic adventure at the Mermaid Pirate Pool Party! Come dressed as a mermaid or pirate, and get ready to dive into the fun! The party will take place at the William A. Wagner Aquatic Center on May 23rd from 1:00pm-4:00pm.&nbsp;<span style="font-size: 1.25rem;">Swim with mermaids, walk the plank with pirates, participate in a treasure hunt, and compete in fun water games and challenges!</span></p>
LOCATION:William A. Wagner Aquatic Center\, 3425 Hero Drive Oceanside\, California 92056
CLASS:PUBLIC
END:VEVENT
END:VCALENDAR
