BEGIN:VCALENDAR
VERSION:2.0
PRODID:Oceanside, CA Calendar Creator
METHOD:PUBLISH
BEGIN:VEVENT
DTSTAMP:20260211T125708
DTSTART:20260417T150000
DTEND:20260417T180000
SUMMARY:OUSD Swim Meet
DESCRIPTION:There will be a high school swim meet at the William A. Wagner Aquatic Center from 3:00pm-6:00pm that will occupy 10 lanes in the competition pool. This may also impact parking.
X-ALT-DESC;FMTTYPE=text/html:There will be a high school swim meet at the William A. Wagner Aquatic Center from 3:00pm-6:00pm that will occupy 10 lanes in the competition pool. This may also impact parking.
LOCATION:William A. Wagner Aquatic Center\, 3425 Hero Drive Oceanside\, California 92056
CLASS:PUBLIC
END:VEVENT
END:VCALENDAR
