BEGIN:VCALENDAR
VERSION:2.0
PRODID:Oceanside, CA Calendar Creator
METHOD:PUBLISH
BEGIN:VEVENT
DTSTAMP:20260225T144543
DTSTART:20260404T090000
DTEND:20260404T120000
SUMMARY:Spring Egg Hunt
DESCRIPTION:<p><span style="font-size: 1.25rem;">The Annual Spring Egg Hunt will be on Saturday, April 4, from 9am - 12pm, at Mance Buchanon Park.</span></p><p><span style="font-size: 1.25rem;">&nbsp;</span><strong data-start="246" data-end="289" style="font-size: 1.25rem;">FREE event for kids up to 11 years old!</strong></p><p><span style="font-size: 1.25rem;">Bring your own egg basket or bag, and arrive early for fun activities, bunny photos and a chance to win a prize. Free parking is available at Mance Buchanon Park.&nbsp;We hope to see you there!</span></p><p><span style="text-decoration: underline;"><strong>Event Timeline</strong></span>:</p><p data-start="143" data-end="381"><span style="text-decoration: underline;"><strong> </strong></span></p><h3 data-section-id="1eg3d2" data-start="388" data-end="444">9:00am – 9:30am | Early Activities &amp; Toddler Hunt</h3><ul data-start="445" data-end="684">    <li data-section-id="168a0d" data-start="445" data-end="562">    <p data-start="447" data-end="562"><span data-start="447" data-end="478">Egg Hunt for Ages 2 &amp; Under</span> – Little ones collect empty eggs and trade them at the VIP booth for a candy bag.</p>    </li>    <li data-section-id="15ynbzw" data-start="563" data-end="599">    <p data-start="565" data-end="599"><span data-start="565" data-end="597">Bunny Photos (</span><span data-start="565" data-end="597"><strong>first session</strong></span><span data-start="565" data-end="597">)</span></p>    </li>    <li data-section-id="1s00i2x" data-start="600" data-end="637">    <p data-start="602" data-end="637"><span data-start="602" data-end="635">Temporary Tattoos Craft Booth Begins (</span><span data-start="602" data-end="635"><strong>ends</strong></span><span data-start="602" data-end="635"><strong>&nbsp;at 10:30am</strong></span><span data-start="602" data-end="635">)</span></p>    </li>    <li data-section-id="1jw0yfd" data-start="638" data-end="684">    <p data-start="640" data-end="684"><span data-start="640" data-end="656">Bounce House</span> opens for continuous play</p>    </li></ul><p><span style="text-decoration: underline;"><strong> <hr data-start="686" data-end="689"></strong></span></p><h3 data-section-id="k1hlpv" data-start="691" data-end="741">10:00am SHARP | Main Egg Hunt for Ages 3–11</h3><ul data-start="742" data-end="822">    <li data-section-id="10zvqhh" data-start="742" data-end="785">    <p data-start="744" data-end="785">Kids 3–11 participate in the main hunt.</p>    </li>    <li data-section-id="1ykzv2i" data-start="786" data-end="822">    <p data-start="788" data-end="822">No parents allowed on the field.</p>    </li></ul><p><span style="text-decoration: underline;"><strong> <hr data-start="824" data-end="827"></strong></span></p><h3 data-section-id="zwjm4x" data-start="829" data-end="884">10:10am – 10:30am | Bunny Photos (final session)</h3><ul data-start="885" data-end="955">    <li data-section-id="11e7iz0" data-start="885" data-end="955">    <p data-start="887" data-end="955">Last chance for festive bunny photos before the magic show begins.</p>    </li></ul><p><span style="text-decoration: underline;"><strong> <hr data-start="957" data-end="960"></strong></span></p><h3 data-section-id="il27ad" data-start="962" data-end="1010">10:15am – 10:25am | All Egg-bilities Hunt</h3><ul data-start="1011" data-end="1159">    <li data-section-id="1n7vv6h" data-start="1011" data-end="1076">    <p data-start="1013" data-end="1076">Begins promptly at 10:15am. Designed for children up to 11 years old with adaptive needs.</p>    </li>    <li data-section-id="1fypa9n" data-start="1077" data-end="1112">    <p data-start="1079" data-end="1112">Parents may assist their child.</p>    </li>    <li data-section-id="vqad0d" data-start="1113" data-end="1159">    <p data-start="1115" data-end="1159">Music will be turned off during this time.</p>    </li></ul><p><span style="text-decoration: underline;"><strong> <hr data-start="1161" data-end="1164"></strong></span></p><h3 data-section-id="1kotc3g" data-start="1166" data-end="1203">10:30am – 11:00am | Magic Show</h3><ul data-start="1204" data-end="1265">    <li data-section-id="mvq42v" data-start="1204" data-end="1265">    <p data-start="1206" data-end="1265">A fun, family-friendly performance to entertain all kids.</p>    </li></ul><p><span style="text-decoration: underline;"><strong> <hr data-start="1267" data-end="1270"></strong></span></p><h3 data-section-id="1qas0z5" data-start="1272" data-end="1323">11:00am – 12:00pm | Bounce House Festivities</h3><ul data-start="1324" data-end="1386">    <li data-section-id="1fyg3v0" data-start="1324" data-end="1386">    <p data-start="1326" data-end="1386">Bounce house fun continues for the remainder of the event.</p>    </li></ul><p>&nbsp;</p>
X-ALT-DESC;FMTTYPE=text/html:<p><span style="font-size: 1.25rem;">The Annual Spring Egg Hunt will be on Saturday, April 4, from 9am - 12pm, at Mance Buchanon Park.</span></p><p><span style="font-size: 1.25rem;">&nbsp;</span><strong data-start="246" data-end="289" style="font-size: 1.25rem;">FREE event for kids up to 11 years old!</strong></p><p><span style="font-size: 1.25rem;">Bring your own egg basket or bag, and arrive early for fun activities, bunny photos and a chance to win a prize. Free parking is available at Mance Buchanon Park.&nbsp;We hope to see you there!</span></p><p><span style="text-decoration: underline;"><strong>Event Timeline</strong></span>:</p><p data-start="143" data-end="381"><span style="text-decoration: underline;"><strong> </strong></span></p><h3 data-section-id="1eg3d2" data-start="388" data-end="444">9:00am – 9:30am | Early Activities &amp; Toddler Hunt</h3><ul data-start="445" data-end="684">    <li data-section-id="168a0d" data-start="445" data-end="562">    <p data-start="447" data-end="562"><span data-start="447" data-end="478">Egg Hunt for Ages 2 &amp; Under</span> – Little ones collect empty eggs and trade them at the VIP booth for a candy bag.</p>    </li>    <li data-section-id="15ynbzw" data-start="563" data-end="599">    <p data-start="565" data-end="599"><span data-start="565" data-end="597">Bunny Photos (</span><span data-start="565" data-end="597"><strong>first session</strong></span><span data-start="565" data-end="597">)</span></p>    </li>    <li data-section-id="1s00i2x" data-start="600" data-end="637">    <p data-start="602" data-end="637"><span data-start="602" data-end="635">Temporary Tattoos Craft Booth Begins (</span><span data-start="602" data-end="635"><strong>ends</strong></span><span data-start="602" data-end="635"><strong>&nbsp;at 10:30am</strong></span><span data-start="602" data-end="635">)</span></p>    </li>    <li data-section-id="1jw0yfd" data-start="638" data-end="684">    <p data-start="640" data-end="684"><span data-start="640" data-end="656">Bounce House</span> opens for continuous play</p>    </li></ul><p><span style="text-decoration: underline;"><strong> <hr data-start="686" data-end="689"></strong></span></p><h3 data-section-id="k1hlpv" data-start="691" data-end="741">10:00am SHARP | Main Egg Hunt for Ages 3–11</h3><ul data-start="742" data-end="822">    <li data-section-id="10zvqhh" data-start="742" data-end="785">    <p data-start="744" data-end="785">Kids 3–11 participate in the main hunt.</p>    </li>    <li data-section-id="1ykzv2i" data-start="786" data-end="822">    <p data-start="788" data-end="822">No parents allowed on the field.</p>    </li></ul><p><span style="text-decoration: underline;"><strong> <hr data-start="824" data-end="827"></strong></span></p><h3 data-section-id="zwjm4x" data-start="829" data-end="884">10:10am – 10:30am | Bunny Photos (final session)</h3><ul data-start="885" data-end="955">    <li data-section-id="11e7iz0" data-start="885" data-end="955">    <p data-start="887" data-end="955">Last chance for festive bunny photos before the magic show begins.</p>    </li></ul><p><span style="text-decoration: underline;"><strong> <hr data-start="957" data-end="960"></strong></span></p><h3 data-section-id="il27ad" data-start="962" data-end="1010">10:15am – 10:25am | All Egg-bilities Hunt</h3><ul data-start="1011" data-end="1159">    <li data-section-id="1n7vv6h" data-start="1011" data-end="1076">    <p data-start="1013" data-end="1076">Begins promptly at 10:15am. Designed for children up to 11 years old with adaptive needs.</p>    </li>    <li data-section-id="1fypa9n" data-start="1077" data-end="1112">    <p data-start="1079" data-end="1112">Parents may assist their child.</p>    </li>    <li data-section-id="vqad0d" data-start="1113" data-end="1159">    <p data-start="1115" data-end="1159">Music will be turned off during this time.</p>    </li></ul><p><span style="text-decoration: underline;"><strong> <hr data-start="1161" data-end="1164"></strong></span></p><h3 data-section-id="1kotc3g" data-start="1166" data-end="1203">10:30am – 11:00am | Magic Show</h3><ul data-start="1204" data-end="1265">    <li data-section-id="mvq42v" data-start="1204" data-end="1265">    <p data-start="1206" data-end="1265">A fun, family-friendly performance to entertain all kids.</p>    </li></ul><p><span style="text-decoration: underline;"><strong> <hr data-start="1267" data-end="1270"></strong></span></p><h3 data-section-id="1qas0z5" data-start="1272" data-end="1323">11:00am – 12:00pm | Bounce House Festivities</h3><ul data-start="1324" data-end="1386">    <li data-section-id="1fyg3v0" data-start="1324" data-end="1386">    <p data-start="1326" data-end="1386">Bounce house fun continues for the remainder of the event.</p>    </li></ul><p>&nbsp;</p>
LOCATION:Mance Buchanon Park\, 425 College Blvd Oceanside\, California 92057
CLASS:PUBLIC
END:VEVENT
END:VCALENDAR
