BEGIN:VCALENDAR
VERSION:2.0
PRODID:Oceanside, CA Calendar Creator
METHOD:PUBLISH
BEGIN:VEVENT
DTSTAMP:20260402T140928
DTSTART:20261105T180000
DTEND:20261105T203000
SUMMARY:Manufactured Home Fair Practices Commission
DESCRIPTION:
X-ALT-DESC;FMTTYPE=text/html:
LOCATION:Council Chambers - City Hall\, 300 N COAST HWY OCEANSIDE\, California 92054
CLASS:PUBLIC
END:VEVENT
END:VCALENDAR
