BEGIN:VCALENDAR
VERSION:2.0
PRODID:Oceanside, CA Calendar Creator
METHOD:PUBLISH
BEGIN:VEVENT
DTSTAMP:20260408T091648
DTSTART:20260416T160000
DTEND:20260416T170000
SUMMARY:New Trail at El Corazon – Grand Opening
DESCRIPTION:<p data-start="73" data-end="343"><strong data-start="73" data-end="116">New Trail at El Corazon – Grand Opening</strong><br data-start="116" data-end="119"></p><p data-start="73" data-end="343">Celebrate the opening of the new Phase IIA Trail at El Corazon Park! Join us on Thursday, April 16 at 4:00 PM at the Oceanside Blvd entrance, 1620 Town Center Oceanside, CA 92056, (just east of El Camino Real) to explore the new trail and enjoy free refreshments.</p><p data-start="345" data-end="559">Take part in a guided tour led by native plant and bird experts and discover the natural beauty of this new outdoor space. Don’t miss this opportunity to experience one of Oceanside’s newest recreational amenities!</p>
X-ALT-DESC;FMTTYPE=text/html:<p data-start="73" data-end="343"><strong data-start="73" data-end="116">New Trail at El Corazon – Grand Opening</strong><br data-start="116" data-end="119"></p><p data-start="73" data-end="343">Celebrate the opening of the new Phase IIA Trail at El Corazon Park! Join us on Thursday, April 16 at 4:00 PM at the Oceanside Blvd entrance, 1620 Town Center Oceanside, CA 92056, (just east of El Camino Real) to explore the new trail and enjoy free refreshments.</p><p data-start="345" data-end="559">Take part in a guided tour led by native plant and bird experts and discover the natural beauty of this new outdoor space. Don’t miss this opportunity to experience one of Oceanside’s newest recreational amenities!</p>
LOCATION:El Corazon Trail\, 1620 Town Center Oceanside\, California 92056
CLASS:PUBLIC
END:VEVENT
END:VCALENDAR
