BEGIN:VCALENDAR
VERSION:2.0
PRODID:Oceanside, CA Calendar Creator
METHOD:PUBLISH
BEGIN:VEVENT
DTSTAMP:20260413T160623
DTSTART:20260502T153000
DTEND:20260502T183000
SUMMARY:Concert in the Park (OCAF)
DESCRIPTION:<p>The Oceanside Cultural Arts foundation (OCAF), in partnership with Oceanside Public Library &amp; Cultural Arts Department and Oceanside Parks and Recreation Department, will be presenting eight free concerts in the Oceanside Levitt BLOC Music Series this spring and fall.&nbsp;<br><br>The Levitt Foundation is a private family foundation that exists to strengthen the social fabric of America. The Foundation supports change makers and nonprofits across the country to activate underused public spaces through free outdoor concerts, creating welcoming, joyful, and inclusive destinations where the power of free, live music brings people together, fosters belonging and social connections, creates economic opportunity, and invigorates community life. The Levitt foundation is providing up to $120,000 for the next three years to support free concerts in Oceanside.&nbsp;</p><p>This concert will be featuring Kogee Soul Reprise and David Spitzfaden Trio.<br><br><strong>Concerts are Saturdays from 3:30 to 6:30 PM</strong>. There will be free activities for children during the concerts.&nbsp;</p><p><div><span style="font-size: 1.25rem;">More information about the bands is available at www.oceansidemusicseries.com.&nbsp;</span></div></p><p>&nbsp;</p>
X-ALT-DESC;FMTTYPE=text/html:<p>The Oceanside Cultural Arts foundation (OCAF), in partnership with Oceanside Public Library &amp; Cultural Arts Department and Oceanside Parks and Recreation Department, will be presenting eight free concerts in the Oceanside Levitt BLOC Music Series this spring and fall.&nbsp;<br><br>The Levitt Foundation is a private family foundation that exists to strengthen the social fabric of America. The Foundation supports change makers and nonprofits across the country to activate underused public spaces through free outdoor concerts, creating welcoming, joyful, and inclusive destinations where the power of free, live music brings people together, fosters belonging and social connections, creates economic opportunity, and invigorates community life. The Levitt foundation is providing up to $120,000 for the next three years to support free concerts in Oceanside.&nbsp;</p><p>This concert will be featuring Kogee Soul Reprise and David Spitzfaden Trio.<br><br><strong>Concerts are Saturdays from 3:30 to 6:30 PM</strong>. There will be free activities for children during the concerts.&nbsp;</p><p><div><span style="font-size: 1.25rem;">More information about the bands is available at www.oceansidemusicseries.com.&nbsp;</span></div></p><p>&nbsp;</p>
LOCATION:Joe Balderrama Park\, 709 San Diego St Oceanside\, California 92058
CLASS:PUBLIC
END:VEVENT
END:VCALENDAR
