BEGIN:VCALENDAR
VERSION:2.0
PRODID:Oceanside, CA Calendar Creator
METHOD:PUBLISH
BEGIN:VEVENT
DTSTAMP:20250305T144633
DTSTART:20250408T180000
DTEND:20250408T210000
SUMMARY:Parks & Recreation Commission- Special Meeting
DESCRIPTION:<p>The Parks and Recreation Commission considers and makes recommendations to the City Council on policies pertaining to the acquisition, development, operation and maintenance of City park facilities, beach facilities, community center facilities and golf course facilities, and shall advise in the planning of City recreation and leisure programs and special events.</p><p>Email Commission:&nbsp;<a href="mailto:parc@oceansideca.org" target="_blank">parc@oceansideca.org</a></p><p>Staff:&nbsp;Manuel Gonzalez</p><p>Phone:&nbsp;760-435-5561</p>
X-ALT-DESC;FMTTYPE=text/html:<p>The Parks and Recreation Commission considers and makes recommendations to the City Council on policies pertaining to the acquisition, development, operation and maintenance of City park facilities, beach facilities, community center facilities and golf course facilities, and shall advise in the planning of City recreation and leisure programs and special events.</p><p>Email Commission:&nbsp;<a href="mailto:parc@oceansideca.org" target="_blank">parc@oceansideca.org</a></p><p>Staff:&nbsp;Manuel Gonzalez</p><p>Phone:&nbsp;760-435-5561</p>
LOCATION:Council Chambers - City Hall\, 300 N COAST HWY OCEANSIDE\, California 92054
CLASS:PUBLIC
END:VEVENT
END:VCALENDAR
