BEGIN:VCALENDAR
VERSION:2.0
PRODID:Oceanside, CA Calendar Creator
METHOD:PUBLISH
BEGIN:VEVENT
DTSTAMP:20230519T111901
DTSTART:20230616T170000
DTEND:20230616T200000
SUMMARY:Concert in the Park
DESCRIPTION:<p>Join us for a FREE Concert in the Park featuring Woodie and the Longboards, a sensational Beach Boys cover band! 🎶🎸 The concert will take place at Jim Wood Park at Rancho del Oro on Friday, June 16th.</p><p>5:00pm – 6:00pm - Opener: Perry O'Neal 🎵<br>Joining us as our opener is the talented Perry O'Neal! 🎤 Perry will take you on a journey through the golden era of music, enchanting you with a variety of oldies hits that will have you singing and dancing along.</p><p>6:00pm – 8:00pm - Headliner: Woodie and the Longboards 🎵<br>Get ready to be blown away by the electrifying performances of Woodie and the Longboards as they pay tribute to the legendary Beach Boys!<br>Remember to bring your beach chairs and blankets! Food trucks and family-friendly activities will be available at the event.</p><p>Please note: canopies and large umbrellas are not allowed. Jim Wood Park at Rancho del Oro (formerly just Rancho del Oro Park) is located at College and Empresa, Oceanside, CA 92056.</p><p>Parking is limited! We encourage carpooling, biking, taking transit, or walking. Bikers, walkers, and transit takers can stop by our booth for a free gift.</p>
X-ALT-DESC;FMTTYPE=text/html:<p>Join us for a FREE Concert in the Park featuring Woodie and the Longboards, a sensational Beach Boys cover band! 🎶🎸 The concert will take place at Jim Wood Park at Rancho del Oro on Friday, June 16th.</p><p>5:00pm – 6:00pm - Opener: Perry O'Neal 🎵<br>Joining us as our opener is the talented Perry O'Neal! 🎤 Perry will take you on a journey through the golden era of music, enchanting you with a variety of oldies hits that will have you singing and dancing along.</p><p>6:00pm – 8:00pm - Headliner: Woodie and the Longboards 🎵<br>Get ready to be blown away by the electrifying performances of Woodie and the Longboards as they pay tribute to the legendary Beach Boys!<br>Remember to bring your beach chairs and blankets! Food trucks and family-friendly activities will be available at the event.</p><p>Please note: canopies and large umbrellas are not allowed. Jim Wood Park at Rancho del Oro (formerly just Rancho del Oro Park) is located at College and Empresa, Oceanside, CA 92056.</p><p>Parking is limited! We encourage carpooling, biking, taking transit, or walking. Bikers, walkers, and transit takers can stop by our booth for a free gift.</p>
LOCATION:Jim Wood Park at Rancho Del Oro\, 4701 Mesa Dr Oceanside\, California 92056
CLASS:PUBLIC
END:VEVENT
END:VCALENDAR
