BEGIN:VCALENDAR
VERSION:2.0
PRODID:Oceanside, CA Calendar Creator
METHOD:PUBLISH
BEGIN:VEVENT
DTSTAMP:20230519T111902
DTSTART:20230729T193000
DTEND:20230729T220000
SUMMARY:Movie in the Park - "Minions: The Rise of Gru"
DESCRIPTION:<div x11i5rnm="" xat24cr="" x1mh8g0r="" x1vvkbs"="">Join Oceanside Parks and Recreation on July 29th at Mance Buchanon Park for a fun FREE Movie in the Park! At 7pm, we will have family-friendly activities for the little ones to enjoy. At approximately 7:50pm, we will play the movie “Minions: The Rise of Gru”! We suggest arriving by 7:30pm.</div><p x11i5rnm="" xat24cr="" x1mh8g0r=""><div x11i5rnm="" xat24cr="" x1mh8g0r="" x1vvkbs"=""></div></p><div xat24cr="" x1mh8g0r="" x1vvkbs="" xtlvy1s"="">Parking will be limited, so we encourage carpooling, walking, biking, or taking transit to the park. Show us your bike, transit ticket, or your GPS walking route for a free prize (while supplies last). Just stop by our booth to redeem your free item.&nbsp;</div>
X-ALT-DESC;FMTTYPE=text/html:<div x11i5rnm="" xat24cr="" x1mh8g0r="" x1vvkbs"="">Join Oceanside Parks and Recreation on July 29th at Mance Buchanon Park for a fun FREE Movie in the Park! At 7pm, we will have family-friendly activities for the little ones to enjoy. At approximately 7:50pm, we will play the movie “Minions: The Rise of Gru”! We suggest arriving by 7:30pm.</div><p x11i5rnm="" xat24cr="" x1mh8g0r=""><div x11i5rnm="" xat24cr="" x1mh8g0r="" x1vvkbs"=""></div></p><div xat24cr="" x1mh8g0r="" x1vvkbs="" xtlvy1s"="">Parking will be limited, so we encourage carpooling, walking, biking, or taking transit to the park. Show us your bike, transit ticket, or your GPS walking route for a free prize (while supplies last). Just stop by our booth to redeem your free item.&nbsp;</div>
LOCATION:Mance Buchanon Park\, 425 College Blvd Oceanside\, California 92057
CLASS:PUBLIC
END:VEVENT
END:VCALENDAR
